BEGIN:VCALENDAR
VERSION:2.0
PRODID:-//FoodLane - ECPv6.15.20//NONSGML v1.0//EN
CALSCALE:GREGORIAN
METHOD:PUBLISH
X-ORIGINAL-URL:https://designingmedia.com/foodlane
X-WR-CALDESC:Events for FoodLane
REFRESH-INTERVAL;VALUE=DURATION:PT1H
X-Robots-Tag:noindex
X-PUBLISHED-TTL:PT1H
BEGIN:VTIMEZONE
TZID:UTC
BEGIN:STANDARD
TZOFFSETFROM:+0000
TZOFFSETTO:+0000
TZNAME:UTC
DTSTART:20220101T000000
END:STANDARD
END:VTIMEZONE
BEGIN:VEVENT
DTSTART;TZID=UTC:20230810T080000
DTEND;TZID=UTC:20300831T170000
DTSTAMP:20260420T221239
CREATED:20230719T073953Z
LAST-MODIFIED:20230720T061837Z
UID:6523-1691654400-1914426000@designingmedia.com
SUMMARY:Bread Baking Class: Artisanal Techniques
DESCRIPTION:Learn the art of bread baking in this hands-on class led by our expert bakers. Discover traditional artisanal techniques\, from creating and kneading the dough to mastering the perfect rise and achieving a crisp crust. Take home your freshly baked loaves to enjoy!
URL:https://designingmedia.com/foodlane/event/bread-baking-class-artisanal-techniques/
LOCATION:Level 3\, 551 Swanston Street Melbourne\, 3053\, Australia
CATEGORIES:Events
ATTACH;FMTTYPE=image/jpeg:https://designingmedia.com/foodlane/wp-content/uploads/2023/07/bakery-event.jpg
END:VEVENT
END:VCALENDAR